Package: GenProSeq Version: 1.12.0 Command: /home/biocbuild/R/R/bin/R CMD build --keep-empty-dirs --no-resave-data GenProSeq StartedAt: 2025-10-14 01:07:45 -0000 (Tue, 14 Oct 2025) EndedAt: 2025-10-14 01:13:13 -0000 (Tue, 14 Oct 2025) EllapsedTime: 328.1 seconds RetCode: 0 Status: OK PackageFile: GenProSeq_1.12.0.tar.gz PackageFileSize: 1.141 MiB