Package: GenProSeq Version: 1.12.0 Command: rm -rf GenProSeq.buildbin-libdir && mkdir GenProSeq.buildbin-libdir && /Users/biocbuild/BBS/utils/build-universal.sh GenProSeq_1.12.0.tar.gz /Library/Frameworks/R.framework/Resources/bin/R GenProSeq.buildbin-libdir StartedAt: 2025-10-15 18:40:47 -0400 (Wed, 15 Oct 2025) EndedAt: 2025-10-15 18:41:01 -0400 (Wed, 15 Oct 2025) EllapsedTime: 14.7 seconds RetCode: 0 Status: OK PackageFile: GenProSeq_1.12.0.tgz PackageFileSize: 395.7 KiB