Package: GateFinder Version: 1.28.0 Command: E:\biocbuild\bbs-3.21-bioc\R\bin\R.exe CMD check --no-multiarch --install=check:GateFinder.install-out.txt --library=E:\biocbuild\bbs-3.21-bioc\R\library --no-vignettes --timings GateFinder_1.28.0.tar.gz StartedAt: 2025-08-15 02:22:17 -0400 (Fri, 15 Aug 2025) EndedAt: 2025-08-15 02:23:58 -0400 (Fri, 15 Aug 2025) EllapsedTime: 100.8 seconds RetCode: 0 Status: WARNINGS CheckDir: GateFinder.Rcheck Warnings: 1