Package: GateFinder Version: 1.28.0 Command: /home/biocbuild/R/R/bin/R CMD build --keep-empty-dirs --no-resave-data GateFinder StartedAt: 2025-10-14 00:59:44 -0000 (Tue, 14 Oct 2025) EndedAt: 2025-10-14 01:00:07 -0000 (Tue, 14 Oct 2025) EllapsedTime: 23.0 seconds RetCode: 0 Status: OK PackageFile: GateFinder_1.28.0.tar.gz PackageFileSize: 573.8 KiB