Package: GWAS.BAYES Version: 1.18.0 Command: /home/biocbuild/bbs-3.21-bioc/R/bin/R CMD check --install=check:GWAS.BAYES.install-out.txt --library=/home/biocbuild/bbs-3.21-bioc/R/site-library --timings GWAS.BAYES_1.18.0.tar.gz StartedAt: 2025-10-15 23:56:44 -0400 (Wed, 15 Oct 2025) EndedAt: 2025-10-16 00:01:17 -0400 (Thu, 16 Oct 2025) EllapsedTime: 272.6 seconds RetCode: 0 Status: OK CheckDir: GWAS.BAYES.Rcheck Warnings: 0