Package: GSgalgoR Version: 1.18.0 Command: /home/biocbuild/bbs-3.21-bioc/R/bin/R CMD check --install=check:GSgalgoR.install-out.txt --library=/home/biocbuild/bbs-3.21-bioc/R/site-library --timings GSgalgoR_1.18.0.tar.gz StartedAt: 2025-10-01 23:53:27 -0400 (Wed, 01 Oct 2025) EndedAt: 2025-10-01 23:58:06 -0400 (Wed, 01 Oct 2025) EllapsedTime: 279.5 seconds RetCode: 0 Status: OK CheckDir: GSgalgoR.Rcheck Warnings: 0