Package: GSVA Version: 2.2.0 Command: /home/biocbuild/R/R/bin/R CMD INSTALL GSVA StartedAt: 2025-09-29 21:13:05 -0000 (Mon, 29 Sep 2025) EndedAt: 2025-09-29 21:14:02 -0000 (Mon, 29 Sep 2025) EllapsedTime: 56.6 seconds RetCode: 0 Status: OK