Package: GSVA Version: 2.2.0 Command: /home/biocbuild/R/R/bin/R CMD check --install=check:GSVA.install-out.txt --library=/home/biocbuild/R/R/site-library --no-vignettes --timings GSVA_2.2.0.tar.gz StartedAt: 2025-09-30 10:24:36 -0000 (Tue, 30 Sep 2025) EndedAt: 2025-09-30 10:38:04 -0000 (Tue, 30 Sep 2025) EllapsedTime: 807.6 seconds RetCode: 0 Status: OK CheckDir: GSVA.Rcheck Warnings: 0