Package: GSVA Version: 2.2.0 Command: /home/biocbuild/R/R/bin/R CMD build --keep-empty-dirs --no-resave-data GSVA StartedAt: 2025-09-30 02:10:18 -0000 (Tue, 30 Sep 2025) EndedAt: 2025-09-30 02:13:02 -0000 (Tue, 30 Sep 2025) EllapsedTime: 164.1 seconds RetCode: 0 Status: OK PackageFile: GSVA_2.2.0.tar.gz PackageFileSize: 2.571 MiB