Package: GSVA Version: 2.2.1 Command: /Library/Frameworks/R.framework/Resources/bin/R CMD INSTALL GSVA StartedAt: 2025-10-13 18:17:32 -0400 (Mon, 13 Oct 2025) EndedAt: 2025-10-13 18:18:20 -0400 (Mon, 13 Oct 2025) EllapsedTime: 47.8 seconds RetCode: 0 Status: OK