Package: GSVA Version: 2.2.1 Command: /Library/Frameworks/R.framework/Resources/bin/R CMD check --install=check:GSVA.install-out.txt --library=/Library/Frameworks/R.framework/Resources/library --no-vignettes --timings GSVA_2.2.1.tar.gz StartedAt: 2025-10-14 23:58:13 -0400 (Tue, 14 Oct 2025) EndedAt: 2025-10-15 00:08:45 -0400 (Wed, 15 Oct 2025) EllapsedTime: 632.2 seconds RetCode: 0 Status: OK CheckDir: GSVA.Rcheck Warnings: 0