Package: GSVA Version: 2.2.1 Command: rm -rf GSVA.buildbin-libdir && mkdir GSVA.buildbin-libdir && /Users/biocbuild/BBS/utils/build-universal.sh GSVA_2.2.1.tar.gz /Library/Frameworks/R.framework/Resources/bin/R GSVA.buildbin-libdir StartedAt: 2025-10-15 18:48:08 -0400 (Wed, 15 Oct 2025) EndedAt: 2025-10-15 18:49:01 -0400 (Wed, 15 Oct 2025) EllapsedTime: 53.4 seconds RetCode: 0 Status: OK PackageFile: GSVA_2.2.1.tgz PackageFileSize: 2.508 MiB