Package: GSReg Version: 1.42.0 Command: /home/biocbuild/bbs-3.21-bioc/R/bin/R CMD check --install=check:GSReg.install-out.txt --library=/home/biocbuild/bbs-3.21-bioc/R/site-library --timings GSReg_1.42.0.tar.gz StartedAt: 2025-10-15 23:55:21 -0400 (Wed, 15 Oct 2025) EndedAt: 2025-10-15 23:59:17 -0400 (Wed, 15 Oct 2025) EllapsedTime: 236.5 seconds RetCode: 0 Status: WARNINGS CheckDir: GSReg.Rcheck Warnings: 3