Package: GSReg Version: 1.42.0 Command: /Library/Frameworks/R.framework/Resources/bin/R CMD INSTALL GSReg StartedAt: 2025-10-13 16:49:09 -0400 (Mon, 13 Oct 2025) EndedAt: 2025-10-13 16:50:32 -0400 (Mon, 13 Oct 2025) EllapsedTime: 83.7 seconds RetCode: 0 Status: OK