Package: GSReg Version: 1.42.0 Command: /Library/Frameworks/R.framework/Resources/bin/R CMD check --install=check:GSReg.install-out.txt --library=/Library/Frameworks/R.framework/Resources/library --no-vignettes --timings GSReg_1.42.0.tar.gz StartedAt: 2025-10-14 04:52:01 -0400 (Tue, 14 Oct 2025) EndedAt: 2025-10-14 04:57:47 -0400 (Tue, 14 Oct 2025) EllapsedTime: 346.4 seconds RetCode: 0 Status: WARNINGS CheckDir: GSReg.Rcheck Warnings: 3