Package: GSReg Version: 1.42.0 Command: /Library/Frameworks/R.framework/Resources/bin/R CMD build --keep-empty-dirs --no-resave-data GSReg StartedAt: 2025-10-13 19:35:13 -0400 (Mon, 13 Oct 2025) EndedAt: 2025-10-13 19:38:25 -0400 (Mon, 13 Oct 2025) EllapsedTime: 191.8 seconds RetCode: 0 Status: OK PackageFile: GSReg_1.42.0.tar.gz PackageFileSize: 465.7 KiB