Package: GSEABenchmarkeR Version: 1.28.1 Command: chmod a+r GSEABenchmarkeR -R && E:\biocbuild\bbs-3.21-bioc\R\bin\R.exe CMD build --keep-empty-dirs --no-resave-data GSEABenchmarkeR StartedAt: 2025-08-14 19:34:26 -0400 (Thu, 14 Aug 2025) EndedAt: 2025-08-14 19:38:27 -0400 (Thu, 14 Aug 2025) EllapsedTime: 241.1 seconds RetCode: 0 Status: OK PackageFile: GSEABenchmarkeR_1.28.1.tar.gz PackageFileSize: 516.9 KiB