Package: GSEABenchmarkeR Version: 1.28.1 Command: /Library/Frameworks/R.framework/Resources/bin/R CMD check --install=check:GSEABenchmarkeR.install-out.txt --library=/Library/Frameworks/R.framework/Resources/library --no-vignettes --timings GSEABenchmarkeR_1.28.1.tar.gz StartedAt: 2025-10-14 04:50:56 -0400 (Tue, 14 Oct 2025) EndedAt: 2025-10-14 05:00:33 -0400 (Tue, 14 Oct 2025) EllapsedTime: 577.1 seconds RetCode: 0 Status: OK CheckDir: GSEABenchmarkeR.Rcheck Warnings: 0