Package: GSEABenchmarkeR Version: 1.28.1 Command: rm -rf GSEABenchmarkeR.buildbin-libdir && mkdir GSEABenchmarkeR.buildbin-libdir && /Users/biocbuild/BBS/utils/build-universal.sh GSEABenchmarkeR_1.28.1.tar.gz /Library/Frameworks/R.framework/Resources/bin/R GSEABenchmarkeR.buildbin-libdir StartedAt: 2025-10-14 13:39:55 -0400 (Tue, 14 Oct 2025) EndedAt: 2025-10-14 13:41:10 -0400 (Tue, 14 Oct 2025) EllapsedTime: 75.1 seconds RetCode: 0 Status: OK PackageFile: GSEABenchmarkeR_1.28.1.tgz PackageFileSize: 678.3 KiB