Package: GSEABenchmarkeR Version: 1.28.1 Command: /home/biocbuild/R/R/bin/R CMD check --install=check:GSEABenchmarkeR.install-out.txt --library=/home/biocbuild/R/R/site-library --no-vignettes --timings GSEABenchmarkeR_1.28.1.tar.gz StartedAt: 2025-10-14 09:55:18 -0000 (Tue, 14 Oct 2025) EndedAt: 2025-10-14 10:01:49 -0000 (Tue, 14 Oct 2025) EllapsedTime: 391.3 seconds RetCode: 0 Status: OK CheckDir: GSEABenchmarkeR.Rcheck Warnings: 0