Package: GSEABenchmarkeR Version: 1.28.1 Command: /home/biocbuild/R/R/bin/R CMD build --keep-empty-dirs --no-resave-data GSEABenchmarkeR StartedAt: 2025-10-14 01:29:42 -0000 (Tue, 14 Oct 2025) EndedAt: 2025-10-14 01:32:23 -0000 (Tue, 14 Oct 2025) EllapsedTime: 161.1 seconds RetCode: 0 Status: OK PackageFile: GSEABenchmarkeR_1.28.1.tar.gz PackageFileSize: 586.2 KiB