Package: GSEABase Version: 1.70.1 Command: /home/biocbuild/bbs-3.21-bioc/R/bin/R CMD build --keep-empty-dirs --no-resave-data GSEABase StartedAt: 2025-10-01 17:56:48 -0400 (Wed, 01 Oct 2025) EndedAt: 2025-10-01 17:57:55 -0400 (Wed, 01 Oct 2025) EllapsedTime: 66.1 seconds RetCode: 0 Status: OK PackageFile: GSEABase_1.70.1.tar.gz PackageFileSize: 292.7 KiB