Package: GSAR Version: 1.42.0 Command: /Library/Frameworks/R.framework/Resources/bin/R CMD check --install=check:GSAR.install-out.txt --library=/Library/Frameworks/R.framework/Resources/library --no-vignettes --timings GSAR_1.42.0.tar.gz StartedAt: 2025-04-21 21:07:56 -0400 (Mon, 21 Apr 2025) EndedAt: 2025-04-21 21:08:49 -0400 (Mon, 21 Apr 2025) EllapsedTime: 52.9 seconds RetCode: 0 Status: OK CheckDir: GSAR.Rcheck Warnings: 0