Package: GSAR Version: 1.42.0 Command: rm -rf GSAR.buildbin-libdir && mkdir GSAR.buildbin-libdir && /Users/biocbuild/BBS/utils/build-universal.sh GSAR_1.42.0.tar.gz /Library/Frameworks/R.framework/Resources/bin/R GSAR.buildbin-libdir StartedAt: 2025-04-21 22:37:37 -0400 (Mon, 21 Apr 2025) EndedAt: 2025-04-21 22:37:40 -0400 (Mon, 21 Apr 2025) EllapsedTime: 3.1 seconds RetCode: 0 Status: OK PackageFile: GSAR_1.42.0.tgz PackageFileSize: 3.48 MiB