Package: GRmetrics Version: 1.34.0 Command: rm -rf GRmetrics.buildbin-libdir && mkdir GRmetrics.buildbin-libdir && E:\biocbuild\bbs-3.21-bioc\R\bin\R.exe CMD INSTALL --build --library=GRmetrics.buildbin-libdir GRmetrics_1.34.0.tar.gz StartedAt: 2025-08-15 09:26:19 -0400 (Fri, 15 Aug 2025) EndedAt: 2025-08-15 09:26:54 -0400 (Fri, 15 Aug 2025) EllapsedTime: 35.3 seconds RetCode: 0 Status: OK PackageFile: GRmetrics_1.34.0.zip PackageFileSize: 1.683 MiB