Package: GRaNIE Version: 1.12.0 Command: E:\biocbuild\bbs-3.21-bioc\R\bin\R.exe CMD INSTALL GRaNIE StartedAt: 2025-08-14 16:48:09 -0400 (Thu, 14 Aug 2025) EndedAt: 2025-08-14 16:49:30 -0400 (Thu, 14 Aug 2025) EllapsedTime: 81.6 seconds RetCode: 0 Status: OK