Package: GRaNIE Version: 1.12.0 Command: chmod a+r GRaNIE -R && E:\biocbuild\bbs-3.21-bioc\R\bin\R.exe CMD build --keep-empty-dirs --no-resave-data GRaNIE StartedAt: 2025-08-14 19:31:47 -0400 (Thu, 14 Aug 2025) EndedAt: 2025-08-14 19:36:41 -0400 (Thu, 14 Aug 2025) EllapsedTime: 294.1 seconds RetCode: 0 Status: OK PackageFile: GRaNIE_1.12.0.tar.gz PackageFileSize: 3.762 MiB