Package: GRaNIE Version: 1.12.0 Command: rm -rf GRaNIE.buildbin-libdir && mkdir GRaNIE.buildbin-libdir && E:\biocbuild\bbs-3.21-bioc\R\bin\R.exe CMD INSTALL --build --library=GRaNIE.buildbin-libdir GRaNIE_1.12.0.tar.gz StartedAt: 2025-08-15 09:25:56 -0400 (Fri, 15 Aug 2025) EndedAt: 2025-08-15 09:27:33 -0400 (Fri, 15 Aug 2025) EllapsedTime: 96.8 seconds RetCode: 0 Status: OK PackageFile: GRaNIE_1.12.0.zip PackageFileSize: 4.672 MiB