Package: GRaNIE Version: 1.12.0 Command: /Library/Frameworks/R.framework/Resources/bin/R CMD INSTALL GRaNIE StartedAt: 2025-10-13 16:25:56 -0400 (Mon, 13 Oct 2025) EndedAt: 2025-10-13 16:27:44 -0400 (Mon, 13 Oct 2025) EllapsedTime: 108.0 seconds RetCode: 0 Status: OK