Package: GRaNIE Version: 1.12.0 Command: rm -rf GRaNIE.buildbin-libdir && mkdir GRaNIE.buildbin-libdir && /Users/biocbuild/BBS/utils/build-universal.sh GRaNIE_1.12.0.tar.gz /Library/Frameworks/R.framework/Resources/bin/R GRaNIE.buildbin-libdir StartedAt: 2025-10-14 13:38:53 -0400 (Tue, 14 Oct 2025) EndedAt: 2025-10-14 13:42:02 -0400 (Tue, 14 Oct 2025) EllapsedTime: 188.5 seconds RetCode: 0 Status: OK PackageFile: GRaNIE_1.12.0.tgz PackageFileSize: 9.193 MiB