Package: GRaNIE Version: 1.12.0 Command: /home/biocbuild/R/R/bin/R CMD build --keep-empty-dirs --no-resave-data GRaNIE StartedAt: 2025-10-14 01:25:35 -0000 (Tue, 14 Oct 2025) EndedAt: 2025-10-14 01:31:24 -0000 (Tue, 14 Oct 2025) EllapsedTime: 349.1 seconds RetCode: 0 Status: OK PackageFile: GRaNIE_1.12.0.tar.gz PackageFileSize: 8.295 MiB