Package: GRaNIE Version: 1.12.0 Command: /Library/Frameworks/R.framework/Resources/bin/R CMD check --install=check:GRaNIE.install-out.txt --library=/Library/Frameworks/R.framework/Resources/library --no-vignettes --timings GRaNIE_1.12.0.tar.gz StartedAt: 2025-10-14 23:46:11 -0400 (Tue, 14 Oct 2025) EndedAt: 2025-10-14 23:54:51 -0400 (Tue, 14 Oct 2025) EllapsedTime: 520.2 seconds RetCode: 0 Status: OK CheckDir: GRaNIE.Rcheck Warnings: 0