Package: GRaNIE Version: 1.12.0 Maintainer: Christian Arnold MaintainerEmail: chrarnold at web.de git_url: https://git.bioconductor.org/packages/GRaNIE git_branch: RELEASE_3_21 git_last_commit: 21e7fc4 git_last_commit_date: 2025-04-15 12:51:24 -0400 (Tue, 15 Apr 2025)