Package: GRENITS Version: 1.60.0 Command: /home/biocbuild/bbs-3.21-bioc/R/bin/R CMD build --keep-empty-dirs --no-resave-data GRENITS StartedAt: 2025-10-15 17:51:12 -0400 (Wed, 15 Oct 2025) EndedAt: 2025-10-15 17:52:51 -0400 (Wed, 15 Oct 2025) EllapsedTime: 99.1 seconds RetCode: 0 Status: OK PackageFile: GRENITS_1.60.0.tar.gz PackageFileSize: 266.7 KiB