Package: GRENITS Version: 1.60.0 Command: /home/biocbuild/R/R/bin/R CMD INSTALL GRENITS StartedAt: 2025-10-13 20:18:38 -0000 (Mon, 13 Oct 2025) EndedAt: 2025-10-13 20:20:55 -0000 (Mon, 13 Oct 2025) EllapsedTime: 137.2 seconds RetCode: 0 Status: OK