Package: GRENITS Version: 1.60.0 Command: /home/biocbuild/R/R/bin/R CMD build --keep-empty-dirs --no-resave-data GRENITS StartedAt: 2025-10-14 01:28:26 -0000 (Tue, 14 Oct 2025) EndedAt: 2025-10-14 01:30:57 -0000 (Tue, 14 Oct 2025) EllapsedTime: 151.1 seconds RetCode: 0 Status: OK PackageFile: GRENITS_1.60.0.tar.gz PackageFileSize: 261.5 KiB