Package: GRENITS Version: 1.60.0 Command: /Library/Frameworks/R.framework/Resources/bin/R CMD INSTALL GRENITS StartedAt: 2025-04-21 15:04:20 -0400 (Mon, 21 Apr 2025) EndedAt: 2025-04-21 15:04:46 -0400 (Mon, 21 Apr 2025) EllapsedTime: 25.8 seconds RetCode: 0 Status: OK