Package: GRENITS Version: 1.60.0 Command: /Library/Frameworks/R.framework/Resources/bin/R CMD build --keep-empty-dirs --no-resave-data GRENITS StartedAt: 2025-04-21 16:33:02 -0400 (Mon, 21 Apr 2025) EndedAt: 2025-04-21 16:33:32 -0400 (Mon, 21 Apr 2025) EllapsedTime: 30.4 seconds RetCode: 0 Status: OK PackageFile: GRENITS_1.60.0.tar.gz PackageFileSize: 266.7 KiB