Package: GRENITS Version: 1.60.0 Command: rm -rf GRENITS.buildbin-libdir && mkdir GRENITS.buildbin-libdir && /Users/biocbuild/BBS/utils/build-universal.sh GRENITS_1.60.0.tar.gz /Library/Frameworks/R.framework/Resources/bin/R GRENITS.buildbin-libdir StartedAt: 2025-10-15 18:47:04 -0400 (Wed, 15 Oct 2025) EndedAt: 2025-10-15 18:48:27 -0400 (Wed, 15 Oct 2025) EllapsedTime: 83.3 seconds RetCode: 0 Status: OK PackageFile: GRENITS_1.60.0.tgz PackageFileSize: 529.2 KiB