Package: GRENITS Version: 1.60.0 Maintainer: Edward Morrissey MaintainerEmail: edward.morrissey at gmail.com git_url: https://git.bioconductor.org/packages/GRENITS git_branch: RELEASE_3_21 git_last_commit: 6751bfe git_last_commit_date: 2025-04-15 10:09:12 -0400 (Tue, 15 Apr 2025)