Package: GPA Version: 1.20.0 Command: rm -rf GPA.buildbin-libdir && mkdir GPA.buildbin-libdir && /Users/biocbuild/BBS/utils/build-universal.sh GPA_1.20.0.tar.gz /Library/Frameworks/R.framework/Resources/bin/R GPA.buildbin-libdir StartedAt: 2025-10-14 13:38:43 -0400 (Tue, 14 Oct 2025) EndedAt: 2025-10-14 13:39:42 -0400 (Tue, 14 Oct 2025) EllapsedTime: 58.9 seconds RetCode: 0 Status: OK PackageFile: GPA_1.20.0.tgz PackageFileSize: 571.7 KiB