Package: GPA Version: 1.20.0 Command: /home/biocbuild/R/R/bin/R CMD INSTALL GPA StartedAt: 2025-10-13 20:18:43 -0000 (Mon, 13 Oct 2025) EndedAt: 2025-10-13 20:19:08 -0000 (Mon, 13 Oct 2025) EllapsedTime: 24.1 seconds RetCode: 0 Status: OK