Package: GPA Version: 1.20.0 Command: /home/biocbuild/R/R/bin/R CMD build --keep-empty-dirs --no-resave-data GPA StartedAt: 2025-10-14 01:25:12 -0000 (Tue, 14 Oct 2025) EndedAt: 2025-10-14 01:28:34 -0000 (Tue, 14 Oct 2025) EllapsedTime: 202.1 seconds RetCode: 0 Status: OK PackageFile: GPA_1.20.0.tar.gz PackageFileSize: 303 KiB