Package: GPA Version: 1.20.0 Command: /Library/Frameworks/R.framework/Resources/bin/R CMD INSTALL GPA StartedAt: 2025-10-13 15:20:59 -0400 (Mon, 13 Oct 2025) EndedAt: 2025-10-13 15:21:21 -0400 (Mon, 13 Oct 2025) EllapsedTime: 22.8 seconds RetCode: 0 Status: OK