Package: GPA Version: 1.20.0 Command: /Library/Frameworks/R.framework/Resources/bin/R CMD check --install=check:GPA.install-out.txt --library=/Library/Frameworks/R.framework/Resources/library --no-vignettes --timings GPA_1.20.0.tar.gz StartedAt: 2025-10-14 23:44:47 -0400 (Tue, 14 Oct 2025) EndedAt: 2025-10-14 23:46:11 -0400 (Tue, 14 Oct 2025) EllapsedTime: 84.0 seconds RetCode: 0 Status: OK CheckDir: GPA.Rcheck Warnings: 0