Package: GPA Version: 1.20.0 Maintainer: Dongjun Chung MaintainerEmail: dongjun.chung at gmail.com git_url: https://git.bioconductor.org/packages/GPA git_branch: RELEASE_3_21 git_last_commit: 7d9e78d git_last_commit_date: 2025-04-15 11:56:34 -0400 (Tue, 15 Apr 2025)