Package: GOstats Version: 2.74.0 Command: rm -rf GOstats.buildbin-libdir && mkdir GOstats.buildbin-libdir && /Users/biocbuild/BBS/utils/build-universal.sh GOstats_2.74.0.tar.gz /Library/Frameworks/R.framework/Resources/bin/R GOstats.buildbin-libdir StartedAt: 2025-04-22 00:48:26 -0400 (Tue, 22 Apr 2025) EndedAt: 2025-04-22 00:49:01 -0400 (Tue, 22 Apr 2025) EllapsedTime: 34.7 seconds RetCode: 0 Status: OK PackageFile: GOstats_2.74.0.tgz PackageFileSize: 1.89 MiB