Package: GOstats Version: 2.74.0 Command: /Library/Frameworks/R.framework/Resources/bin/R CMD build --keep-empty-dirs --no-resave-data GOstats StartedAt: 2025-10-14 01:36:54 -0400 (Tue, 14 Oct 2025) EndedAt: 2025-10-14 01:55:49 -0400 (Tue, 14 Oct 2025) EllapsedTime: 1135.1 seconds RetCode: 0 Status: OK PackageFile: GOstats_2.74.0.tar.gz PackageFileSize: 2.896 MiB