Package: GOexpress Version: 1.42.0 Command: /Library/Frameworks/R.framework/Resources/bin/R CMD check --install=check:GOexpress.install-out.txt --library=/Library/Frameworks/R.framework/Resources/library --no-vignettes --timings GOexpress_1.42.0.tar.gz StartedAt: 2025-04-21 21:04:31 -0400 (Mon, 21 Apr 2025) EndedAt: 2025-04-21 21:06:52 -0400 (Mon, 21 Apr 2025) EllapsedTime: 141.5 seconds RetCode: 0 Status: WARNINGS CheckDir: GOexpress.Rcheck Warnings: 1