Package: GOTHiC Version: 1.44.0 Command: /home/biocbuild/bbs-3.21-bioc/R/bin/R CMD build --keep-empty-dirs --no-resave-data GOTHiC StartedAt: 2025-10-15 17:49:14 -0400 (Wed, 15 Oct 2025) EndedAt: 2025-10-15 17:49:54 -0400 (Wed, 15 Oct 2025) EllapsedTime: 40.0 seconds RetCode: 0 Status: OK PackageFile: GOTHiC_1.44.0.tar.gz PackageFileSize: 1.697 MiB